BEGIN:VCALENDAR
VERSION:2.0
PRODID:-//Crossroads Community Hub Limited - ECPv6.15.20//NONSGML v1.0//EN
CALSCALE:GREGORIAN
METHOD:PUBLISH
X-ORIGINAL-URL:https://crossroadshub.org.uk
X-WR-CALDESC:Events for Crossroads Community Hub Limited
REFRESH-INTERVAL;VALUE=DURATION:PT1H
X-Robots-Tag:noindex
X-PUBLISHED-TTL:PT1H
BEGIN:VTIMEZONE
TZID:Europe/London
BEGIN:DAYLIGHT
TZOFFSETFROM:+0000
TZOFFSETTO:+0100
TZNAME:BST
DTSTART:20210328T010000
END:DAYLIGHT
BEGIN:STANDARD
TZOFFSETFROM:+0100
TZOFFSETTO:+0000
TZNAME:GMT
DTSTART:20211031T010000
END:STANDARD
BEGIN:DAYLIGHT
TZOFFSETFROM:+0000
TZOFFSETTO:+0100
TZNAME:BST
DTSTART:20220327T010000
END:DAYLIGHT
BEGIN:STANDARD
TZOFFSETFROM:+0100
TZOFFSETTO:+0000
TZNAME:GMT
DTSTART:20221030T010000
END:STANDARD
BEGIN:DAYLIGHT
TZOFFSETFROM:+0000
TZOFFSETTO:+0100
TZNAME:BST
DTSTART:20230326T010000
END:DAYLIGHT
BEGIN:STANDARD
TZOFFSETFROM:+0100
TZOFFSETTO:+0000
TZNAME:GMT
DTSTART:20231029T010000
END:STANDARD
END:VTIMEZONE
BEGIN:VEVENT
DTSTART;TZID=Europe/London:20220412T103000
DTEND;TZID=Europe/London:20220412T143000
DTSTAMP:20260423T175242
CREATED:20220401T135950Z
LAST-MODIFIED:20220409T120809Z
UID:2443-1649759400-1649773800@crossroadshub.org.uk
SUMMARY:Easter Fun for Kids
DESCRIPTION:Come and join us for some Easter fun at Ayrshire Food Hub!  We have 2 sessions available – morning starting at 10.30am to 12.00pm or our afternoon session starting at 1.00pm to 2.30pm.  (Please select your preferred time on the ticket selection below). \nPrice is £6.95 per child and includes all the activities.  Children must be accompanied by a parent or guardian (maximum of 2 adults per child). \n  \nChildren will enjoy a variety of activities on the day including painting an egg and making an Easter card plus a story telling session with local entertainer Nanna Broon in the morning and local writer Greta Yorke in the afternoon. We will also have the Royal Highland Education Trust trailer visiting us in the car park all day. \nA selection of hot/cold drinks and cakes will be available in the cafe on the day and the farm shop will be open too.
URL:https://crossroadshub.org.uk/about-us-upcoming-events-single-post-name/easter-fun-for-kids/
LOCATION:Ayrshire Food Hub – Crossroads
ATTACH;FMTTYPE=image/jpeg:https://crossroadshub.org.uk/wp-content/uploads/2022/04/Blue-and-Pink-Colored-People-Illustrations-Classroom-Rules-and-Online-Etiquette-Education-Presentation-1.jpg
END:VEVENT
END:VCALENDAR