BEGIN:VCALENDAR
VERSION:2.0
PRODID:-//Crossroads Community Hub Limited - ECPv6.15.20//NONSGML v1.0//EN
CALSCALE:GREGORIAN
METHOD:PUBLISH
X-ORIGINAL-URL:https://crossroadshub.org.uk
X-WR-CALDESC:Events for Crossroads Community Hub Limited
REFRESH-INTERVAL;VALUE=DURATION:PT1H
X-Robots-Tag:noindex
X-PUBLISHED-TTL:PT1H
BEGIN:VTIMEZONE
TZID:Europe/London
BEGIN:DAYLIGHT
TZOFFSETFROM:+0000
TZOFFSETTO:+0100
TZNAME:BST
DTSTART:20210328T010000
END:DAYLIGHT
BEGIN:STANDARD
TZOFFSETFROM:+0100
TZOFFSETTO:+0000
TZNAME:GMT
DTSTART:20211031T010000
END:STANDARD
BEGIN:DAYLIGHT
TZOFFSETFROM:+0000
TZOFFSETTO:+0100
TZNAME:BST
DTSTART:20220327T010000
END:DAYLIGHT
BEGIN:STANDARD
TZOFFSETFROM:+0100
TZOFFSETTO:+0000
TZNAME:GMT
DTSTART:20221030T010000
END:STANDARD
BEGIN:DAYLIGHT
TZOFFSETFROM:+0000
TZOFFSETTO:+0100
TZNAME:BST
DTSTART:20230326T010000
END:DAYLIGHT
BEGIN:STANDARD
TZOFFSETFROM:+0100
TZOFFSETTO:+0000
TZNAME:GMT
DTSTART:20231029T010000
END:STANDARD
END:VTIMEZONE
BEGIN:VEVENT
DTSTART;TZID=Europe/London:20220603T133000
DTEND;TZID=Europe/London:20220603T153000
DTSTAMP:20260423T143528
CREATED:20220518T111253Z
LAST-MODIFIED:20220518T133112Z
UID:2581-1654263000-1654270200@crossroadshub.org.uk
SUMMARY:QUEEN'S JUBILEE Afternoon Tea - 03/06/22 1.30pm
DESCRIPTION:To celebrate the Queen’s Jubilee we will have afternoon tea in the pods for parties of 6.\nTwo parties per day available on: \nFriday\, 3rd June – 1.30pm \nPrice is £ 85 per pod. \nWe will be serving sandwiches\, cream scones and a selection of cakes along with your bottomless tea and coffee.\nIf you would like a glass of fizz please feel free to bring your own bottle. \nPLEASE NOTE: if the good old Scottish weather lets us down\, the afternoon tea will be served inside.
URL:https://crossroadshub.org.uk/about-us-upcoming-events-single-post-name/queens-jubilee-afternoon-tea-03-06-22-1-30pm/
LOCATION:Ayrshire Food Hub – Crossroads
ATTACH;FMTTYPE=image/png:https://crossroadshub.org.uk/wp-content/uploads/2022/05/Jubilee-Afternoon-Tea-for-Wordpress.png
END:VEVENT
END:VCALENDAR