BEGIN:VCALENDAR
VERSION:2.0
PRODID:-//Crossroads Community Hub Limited - ECPv6.15.20//NONSGML v1.0//EN
CALSCALE:GREGORIAN
METHOD:PUBLISH
X-WR-CALNAME:Crossroads Community Hub Limited
X-ORIGINAL-URL:https://crossroadshub.org.uk
X-WR-CALDESC:Events for Crossroads Community Hub Limited
REFRESH-INTERVAL;VALUE=DURATION:PT1H
X-Robots-Tag:noindex
X-PUBLISHED-TTL:PT1H
BEGIN:VTIMEZONE
TZID:Europe/London
BEGIN:DAYLIGHT
TZOFFSETFROM:+0000
TZOFFSETTO:+0100
TZNAME:BST
DTSTART:20210328T010000
END:DAYLIGHT
BEGIN:STANDARD
TZOFFSETFROM:+0100
TZOFFSETTO:+0000
TZNAME:GMT
DTSTART:20211031T010000
END:STANDARD
BEGIN:DAYLIGHT
TZOFFSETFROM:+0000
TZOFFSETTO:+0100
TZNAME:BST
DTSTART:20220327T010000
END:DAYLIGHT
BEGIN:STANDARD
TZOFFSETFROM:+0100
TZOFFSETTO:+0000
TZNAME:GMT
DTSTART:20221030T010000
END:STANDARD
BEGIN:DAYLIGHT
TZOFFSETFROM:+0000
TZOFFSETTO:+0100
TZNAME:BST
DTSTART:20230326T010000
END:DAYLIGHT
BEGIN:STANDARD
TZOFFSETFROM:+0100
TZOFFSETTO:+0000
TZNAME:GMT
DTSTART:20231029T010000
END:STANDARD
END:VTIMEZONE
BEGIN:VEVENT
DTSTART;TZID=Europe/London:20221203T193000
DTEND;TZID=Europe/London:20221203T233000
DTSTAMP:20260422T213818
CREATED:20230218T193024Z
LAST-MODIFIED:20230113T103717Z
UID:3210-1670095800-1670110200@crossroadshub.org.uk
SUMMARY:Fundraising Supper Dance
DESCRIPTION:Raising funds for the “Hub Children’s Play Area” \nMusic provided by popular local function band “Mixed Emotion”
URL:https://crossroadshub.org.uk/about-us-upcoming-events-single-post-name/fundraising-supper-dance/
ATTACH;FMTTYPE=image/jpeg:https://crossroadshub.org.uk/wp-content/uploads/2022/11/Supper-Dance-Poster.jpg
END:VEVENT
END:VCALENDAR